BEGIN:VCALENDAR
PRODID:-//PLASMAGERANY//EVENTS//DE
VERSION:2.0
CALSCALE:GREGORIAN
METHOD:PUBLISH
X-WR-CALNAME:HSKD Termine
X-WR-TIMEZONE:Europe/Berlin
BEGIN:VTIMEZONE
TZID:Europe/Berlin
X-LIC-LOCATION:Europe/Berlin
BEGIN:DAYLIGHT
TZOFFSETFROM:+0100
TZOFFSETTO:+0200
TZNAME:CEST
DTSTART:19700329T020000
END:DAYLIGHT
BEGIN:STANDARD
TZOFFSETFROM:+0200
TZOFFSETTO:+0100
TZNAME:CET
DTSTART:19701025T030000
END:STANDARD
END:VTIMEZONE

BEGIN:VEVENT
DTSTART:20260505T000000Z
DTEND:19700101T000000Z
DTSTAMP:20251112T163500Z
UID:25db67c5657914454081c6a18e93d6dd@plasmagermeny.de
CREATED:20251112T163500Z
DESCRIPTION:<a href="https://www.dgo-online.de/fachausschuesse-arbeitskreise/fa-kombinierte-oberflaechentechnik" target="_blank" rel="noopener">Link zum Gemeinschaftsausschuss</a>
LAST-MODIFIED:20251112T163800Z
LOCATION:Neuss
SEQUENCE:0

STATUS:CONFIRMED

SUMMARY:29. Gemeinschaftsausschuss "Ko
TRANSP:OPAQUE

END:VEVENT
END:VCALENDAR